BEGIN:VCALENDAR
VERSION:2.0
PRODID:-//Tukios.com/
BEGIN:VEVENT
UID:7b43f9e7-b3d3-47ab-9fdd-bf83f47bf82a@www.croleyfh.net
DTSTAMP:20260420T175939Z
DTSTART:20260422T180000Z
DTEND:20260422T190000Z
SUMMARY:Viewing
DESCRIPTION:
URL:https://www.croleyfh.net/obituaries/bryan-kelly
LOCATION:Gladewater Former Students Center 2509 Hendricks Street  
	Gladewater TX 75647
GEO:32.5499148;-94.9682854
END:VEVENT
END:VCALENDAR