BEGIN:VCALENDAR
VERSION:2.0
PRODID:-//Tukios.com/
BEGIN:VEVENT
UID:7959ba8f-f00b-40ad-8f7e-b9c31820cc4f@www.croleyfh.net
DTSTAMP:20260420T180133Z
DTSTART:20260422T190000Z
DTEND:20260422T200000Z
SUMMARY:Funeral Service
DESCRIPTION:
URL:https://www.croleyfh.net/obituaries/bryan-kelly
LOCATION:Gladewater Former Students Center 2509 Hendricks Street  
	Gladewater TX 75647
GEO:32.5499148;-94.9682854
END:VEVENT
END:VCALENDAR