BEGIN:VCALENDAR
VERSION:2.0
PRODID:-//Tukios.com/
BEGIN:VEVENT
UID:d19647b0-43f7-4b4a-a8a6-67cfb64ae4bc@www.croleyfh.net
DTSTAMP:20260423T235724Z
DTSTART:20260425T150000Z
DTEND:20260425T160000Z
SUMMARY:Visitation
DESCRIPTION:
URL:https://www.croleyfh.net/obituaries/ronnie-mason
LOCATION: 305 W Harrison St  Gilmer TX 75644
GEO:32.7274283;-94.9466953
END:VEVENT
END:VCALENDAR