BEGIN:VCALENDAR
VERSION:2.0
PRODID:-//Tukios.com/
BEGIN:VEVENT
UID:6f417108-8d02-4093-8a1d-1d8d32a1b886@www.croleyfh.net
DTSTAMP:20260423T235425Z
DTSTART:20260425T163000Z
DTEND:20260425T173000Z
SUMMARY:Graveside Service
DESCRIPTION:
URL:https://www.croleyfh.net/obituaries/ronnie-mason
LOCATION: 1582 US. Hwy 271 South  Gilmer TX 75644
GEO:32.8055537;-94.9527715
END:VEVENT
END:VCALENDAR