BEGIN:VCALENDAR
VERSION:2.0
PRODID:-//Tukios.com/
BEGIN:VEVENT
UID:ade47cc8-cac5-4bbc-9f69-d0672259316a@www.croleyfh.net
DTSTAMP:20260421T002126Z
DTSTART:20260424T180000Z
DTEND:20260424T190000Z
SUMMARY:Graveside Service
DESCRIPTION:
URL:https://www.croleyfh.net/obituaries/tina-emmel
LOCATION:    TX 
GEO:32.7429552;-94.9403555
END:VEVENT
END:VCALENDAR